BEGIN:VCALENDAR
VERSION:2.0
PRODID:-//eventon.com NONSGML v1.0//EN
CALSCALE:GREGORIAN
METHOD:PUBLISH
BEGIN:VEVENT
UID:69ec0f92787b5
DTSTAMP:20260425T004922Z
DTSTART:20260419T160000Z
DTEND:20260419T183000Z
LOCATION:Rosengarten Mannheim Rosengartenpl. 2\,  68161 Mannheim
SUMMARY:Carmina Burana
DESCRIPTION:Carmina Burana Carl Orff (1895-1982) Clarice Assad\,  Ode to Ca
 rmen Miranda  Alexander Borodin\,  Polowetzer Tänze  Mitwirkende: Leonor
  Amaral\,  Sopran Vaclav Vallon\,  Tenor Martin Berner\,  Bass Deutsche Sta
 atsphilharmonie Rheinland-Pfalz Bachchor Mainz Michael Francis Leitung  \n
 https://www.bachchormainz.de/events/carmina-burana-4/
URL:https://www.bachchormainz.de/events/carmina-burana-4/
END:VEVENT
END:VCALENDAR