BEGIN:VCALENDAR
VERSION:2.0
PRODID:-//eventon.com NONSGML v1.0//EN
CALSCALE:GREGORIAN
METHOD:PUBLISH
BEGIN:VEVENT
UID:69ec04eda88b7
DTSTAMP:20260425T000357Z
DTSTART:20260418T173000Z
DTEND:20260418T200000Z
LOCATION:Rheingoldhalle Mainz Rheinstraße 66\,  55116 Mainz
SUMMARY:Carmina Burana
DESCRIPTION:Carmina Burana Carl Orff (1895-1982) Clarice Assad\,  Ode to Ca
 rmen Miranda  Alexander Borodin\,  Polowetzer Tänze  Mitwirkende: Leonor
  Amaral\,  Sopran Vaclav Vallon\,  Tenor Martin Berner\,  Bass Deutsche Sta
 atsphilharmonie Rheinland-Pfalz Bachchor Mainz Michael Francis Leitung  \n
 https://www.bachchormainz.de/events/carmina-burana-3/
URL:https://www.bachchormainz.de/events/carmina-burana-3/
END:VEVENT
END:VCALENDAR