BEGIN:VCALENDAR
VERSION:2.0
PRODID:-//eventon.com NONSGML v1.0//EN
CALSCALE:GREGORIAN
METHOD:PUBLISH
BEGIN:VEVENT
UID:69ebebf649ff2
DTSTAMP:20260424T221726Z
DTSTART:20260417T173000Z
DTEND:20260417T200000Z
LOCATION:Fruchthalle Kaiserslautern Fruchthallstraße 10
SUMMARY:Carmina Burana
DESCRIPTION:Carmina Burana Carl Orff (1895-1982) Clarice Assad\,  Ode to Ca
 rmen Miranda  Alexander Borodin\,  Polowetzer Tänze  Mitwirkende: Leonor
  Amaral\,  Sopran Vaclav Vallon\,  Tenor Martin Berner\,  Bass Deutsche Sta
 atsphilharmonie Rheinland-Pfalz Bachchor Mainz Michael Francis Leitung  \n
 https://www.bachchormainz.de/events/carmina-burana-2/
URL:https://www.bachchormainz.de/events/carmina-burana-2/
END:VEVENT
END:VCALENDAR