BEGIN:VCALENDAR
VERSION:2.0
PRODID:-//eventon.com NONSGML v1.0//EN
CALSCALE:GREGORIAN
METHOD:PUBLISH
BEGIN:VEVENT
UID:69ebd9d2ac18e
DTSTAMP:20260424T210002Z
DTSTART:20260416T180000Z
DTEND:20260416T203000Z
LOCATION:DAS WORMSER Theater\,  Kultur- und Tagungszentrum Rathenaustraße 11\,  67547 Worms
SUMMARY:Carmina Burana
DESCRIPTION:Carmina Burana Carl Orff (1895-1982) Clarice Assad\,  Ode to Ca
 rmen Miranda  Alexander Borodin\,  Polowetzer Tänze  Mitwirkende: Leonor
  Amaral\,  Sopran Vaclav Vallon\,  Tenor Martin Berner\,  Bass Deutsche Sta
 atsphilharmonie Rheinland-Pfalz Bachchor Mainz Michael Francis Leitung  \n
 https://www.bachchormainz.de/events/carmina-burana-1/
URL:https://www.bachchormainz.de/events/carmina-burana-1/
END:VEVENT
END:VCALENDAR