BEGIN:VCALENDAR
VERSION:2.0
PRODID:-//eventon.com NONSGML v1.0//EN
CALSCALE:GREGORIAN
METHOD:PUBLISH
BEGIN:VEVENT
UID:69ebc47488925
DTSTAMP:20260424T192852Z
DTSTART:20261213T183000Z
DTEND:20261213T203000Z
LOCATION:Christuskirche Mainz Kaiserstraße 56\,  55116 Mainz
SUMMARY:Weihnachtskonzert
DESCRIPTION:Weihnachtskonzert Mitwirkende: Manuela Randlinger\,  Harfe Prog
 ramm: Weihnachtliche Chormusik &#8211; Byrd\,  Tollite portas &#8211; Brahm
 s\,  Es ist das Heil &#8211; Byrd\,  Rorate caeli desuper &#8211; Bardos\, 
  Ave Maria Stella &#8211; Britten\,  A Ceremony of Carols &#8211; Byrd\,  O
  Magnum Mysterium &#8211; Reger\,  Unser lieben Frauen Traum &#8211; Tradit
 ional\,  Entre Le boeuf[..]\nhttps://www.bachchormainz.de/events/weihnachts
 konzert/
URL:https://www.bachchormainz.de/events/weihnachtskonzert/
END:VEVENT
END:VCALENDAR