BEGIN:VCALENDAR
VERSION:2.0
PRODID:-//eventon.com NONSGML v1.0//EN
CALSCALE:GREGORIAN
METHOD:PUBLISH
BEGIN:VEVENT
UID:69ebaf15f0d3e
DTSTAMP:20260424T175741Z
DTSTART:20261108T183000Z
DTEND:20261108T203000Z
LOCATION:Christuskirche Mainz Kaiserstraße 56\,  55116 Mainz
SUMMARY:Mozart Requiem
DESCRIPTION:W.A.Mozart\,  &#8222;Requiem KV 626&#8220; + Klavierkonzert d-m
 oll KV 466 Mitwirkende: Anna-Lena Elbert\,  Sopran Anne Bierwirth\,  Alt Ch
 ristian Rathgeber\,  Tenor Klaus Mertens\,  Bass Bachchor Mainz Wiebke Weid
 anz\,  Hammerflügel Hammerflügel nach Matthäus Heilman\,  Mainz um 1780 
 (Nachbau von Derek Adlam) Christoph Siebert\,  Leitung &nbsp;\nhttps://www.
 bachchormainz.de/events/mozart-requiem/
URL:https://www.bachchormainz.de/events/mozart-requiem/
END:VEVENT
END:VCALENDAR