BEGIN:VCALENDAR
VERSION:2.0
PRODID:-//eventon.com NONSGML v1.0//EN
CALSCALE:GREGORIAN
METHOD:PUBLISH
BEGIN:VEVENT
UID:69eb9abc49b4e
DTSTAMP:20260424T163052Z
DTSTART:20260920T173000Z
DTEND:20260920T193000Z
LOCATION:Christuskirche Mainz Kaiserstraße 56\,  55116 Mainz
SUMMARY:Schubertiade
DESCRIPTION:„Schubertiade“ Mitwirkende:  Martha Jordan\,  Mezzosopran 
 Georg Poplutz\,  Tenor Hilko Dumno\,  Hammerflügel Hammerflügel nach Conr
 ad Graf\,  Wien 1826 (Nachbau Clavierwerkstatt Kern) Programm: Gesänge fü
 r gemischten Chor\,  Frauenchor\,  Männerchor\,  Solo und Klavier (Hammerf
 lügel) &#8211; An die Sonne D. 439 &#8211; Der Gondelfahrer D. 809 &#8211;
  Die Nacht D. 983.4 &#8211; Des Tages[..]\nhttps://www.bachchormainz.de/eve
 nts/schubertiade/
URL:https://www.bachchormainz.de/events/schubertiade/
END:VEVENT
END:VCALENDAR