BEGIN:VCALENDAR
VERSION:2.0
PRODID:-//eventon.com NONSGML v1.0//EN
CALSCALE:GREGORIAN
METHOD:PUBLISH
BEGIN:VEVENT
UID:69eb8147cdf8a
DTSTAMP:20260424T144215Z
DTSTART:20260403T173000Z
DTEND:20260403T193000Z
LOCATION:Christuskirche Mainz Kaiserstraße 56\,  55116 Mainz
SUMMARY:Passionskonzert
DESCRIPTION:„Passionskonzert“ Programm: Joseph Haydn\,  Stabat Mater Ho
 b. Xxbis Anton Bruckner\,  Motetten: Christus factus est\,  WAB 11 Vexilla 
 regis\,  WAB 51 Pange lingua\,  WAB 31 Os justi\,  WAB 30 Mitwirkende:  Ha
 nnah Morrison\,  Sopran Ulrike Malotta\,  Alt Lukas Siebert\,  Tenor Daniel
  Ochoa\,  Bass Bachchor Mainz Bachorchester Mainz Christoph Siebert\,  Leit
 ung &nbsp;\nhttps://www.bachchormainz.de/events/passionskonzert/
URL:https://www.bachchormainz.de/events/passionskonzert/
END:VEVENT
END:VCALENDAR