BEGIN:VCALENDAR
VERSION:2.0
PRODID:-//eventon.com NONSGML v1.0//EN
CALSCALE:GREGORIAN
METHOD:PUBLISH
BEGIN:VEVENT
UID:69eb967935e8b
DTSTAMP:20260424T161241Z
DTSTART:20250923T170000Z
DTEND:20250923T200000Z
LOCATION:Chorsaal Christuskirche Mainz Kaiserstraße 56\,  55116 Mainz
SUMMARY:„Ab in den Chor“ Schnupperprobe
DESCRIPTION:Der Bachchor Mainz lädt am Dienstag\,  23.September im Rahmen 
 der bundesweit stattfindenden „Woche der offenen Chöre“ des Deutschen 
 Chorverbands zu einer Schnupperprobe ein. Die offene Probe des Bachchores i
 m Rahmen der „Woche der offenen Chöre“ findet am 23. September um 19 U
 hr im Chorsaal der Christuskirche Mainz\,  Kaiserstraße 56 statt.[..]\nhtt
 ps://www.bachchormainz.de/events/ab-in-den-chor/
URL:https://www.bachchormainz.de/events/ab-in-den-chor/
END:VEVENT
END:VCALENDAR