BEGIN:VCALENDAR
VERSION:2.0
PRODID:-//eventon.com NONSGML v1.0//EN
CALSCALE:GREGORIAN
METHOD:PUBLISH
BEGIN:VEVENT
UID:69ebc52b9cf4d
DTSTAMP:20260424T193155Z
DTSTART:20251026T101500Z
DTEND:20251026T111500Z
LOCATION:Christuskirche Mainz Kaiserstraße 56\,  55116 Mainz
SUMMARY:Universitätsgottesdienst
DESCRIPTION:J.S. Bach\,  BWV 48\,  „Ich elender Mensch\,  wer wird mich e
 rlösen“ Vokalsolisten Larissa Botos\,  Alt Edward Leach\,  Tenor Bachcho
 r und Bachorchester Mainz Christoph Siebert\,  Leitung\nhttps://www.bachcho
 rmainz.de/events/universitaetsgottesdienst-63-2-2-2-2-2/
URL:https://www.bachchormainz.de/events/universitaetsgottesdienst-63-2-2-2-2-2/
END:VEVENT
END:VCALENDAR