BEGIN:VCALENDAR
VERSION:2.0
PRODID:-//eventon.com NONSGML v1.0//EN
CALSCALE:GREGORIAN
METHOD:PUBLISH
BEGIN:VEVENT
UID:69ebdcbfd6af4
DTSTAMP:20260424T211231Z
DTSTART:20250427T091500Z
DTEND:20250427T101500Z
LOCATION:Christuskirche Mainz KaiserstraÃŸe 56\,  55116 Mainz
SUMMARY:UniversitÃ¤tsgottesdienst
DESCRIPTION:BWV 42\,  â€žAm Abend aber desselbigen Sabbatsâ€œ SchÃ¼tz\,  â€
 žVerleih uns Friedenâ€œ\,  SWV 372\,  und â€žGib unsern FÃ¼rstenâ€œ\,  SWV 
 373 Vokalsolisten Jasmin Maria Ziegler\,  Sopran Larissa Botos\,  Alt Chris
 tian Rathgeber\,  Tenor Florian KÃ¼ppers\,  Bass Bachchor und Bachorchester
  Mainz Christoph Siebert\,  Leitung\nhttps://www.bachchormainz.de/events/un
 iversitaetsgottesdienst-63-2-2-2-2/
URL:https://www.bachchormainz.de/events/universitaetsgottesdienst-63-2-2-2-2/
END:VEVENT
END:VCALENDAR