BEGIN:VCALENDAR
VERSION:2.0
PRODID:-//eventon.com NONSGML v1.0//EN
CALSCALE:GREGORIAN
METHOD:PUBLISH
BEGIN:VEVENT
UID:69ebf46527b26
DTSTAMP:20260424T225325Z
DTSTART:20251225T101500Z
DTEND:20251225T111500Z
LOCATION:Christuskirche Mainz Kaiserstraße 56\,  55116 Mainz
SUMMARY:Jauchzet\,  frohlocket
DESCRIPTION:Bachkantate BWV 248\,  „Jauchzet\,  frohlocket“ Melanie Le
 ising\,  Alt Christoph Hellmann\,  Tenor Florian Küppers\,  Bass-Bariton B
 achchor und Bachorchester Mainz Christoph Siebert\,  Leitung\nhttps://www.b
 achchormainz.de/events/jauchzet-frohlocket-2/
URL:https://www.bachchormainz.de/events/jauchzet-frohlocket-2/
END:VEVENT
END:VCALENDAR