BEGIN:VCALENDAR
VERSION:2.0
PRODID:-//eventon.com NONSGML v1.0//EN
CALSCALE:GREGORIAN
METHOD:PUBLISH
BEGIN:VEVENT
UID:69e4cc9cf202f
DTSTAMP:20260419T123748Z
DTSTART:20240328T183000Z
DTEND:20240328T203000Z
LOCATION:Christuskirche Mainz Kaiserstraße 56\,  55116 Mainz
SUMMARY:Dixit Dominus / Stabat Mater
DESCRIPTION:Georg Friedrich Händel (1685–1759) Dixit Dominus Antonio Mar
 ia Bononcini (1677-1726) Stabat Mater Johanna Beier\,  Sopran 1 Amelie Gers
 t\,  Sopran 2 Christian Rohrbach\,  Alt Ferdinand Dehner\,  Tenor Johannes 
 Hill\,  Bass: Bachchor Mainz Bachorchester Mainz Leitung: Tristan Meister K
 ostenfreier Einführungsvortrag um 18.30 Uhr im Chorsaal der Christuskirch
 e. Der Referent ist Dr. Norbert[..]\nhttps://www.bachchormainz.de/events/di
 xit-dominus-stabat-mater/
URL:https://www.bachchormainz.de/events/dixit-dominus-stabat-mater/
END:VEVENT
END:VCALENDAR